BEGIN:VCALENDAR
VERSION:2.0
PRODID:-//Edgewall Software//NONSGML Trac 1.0.20//EN
METHOD:PUBLISH
X-WR-CALNAME:Genshi - Roadmap
X-WR-CALDESC:Python toolkit for stream-based output generation for the web
X-WR-TIMEZONE:UTC+02:00
BEGIN:VEVENT
UID:</milestone/0.8@genshi.edgewall.org>
DTSTAMP:20170701T220000Z
DTSTART;VALUE=DATE:20170702
SUMMARY:Milestone 0.8
URL:https://genshi.edgewall.org/milestone/0.8
DESCRIPTION:* Python 3.5 and 3.6 compatibility.
END:VEVENT
BEGIN:VEVENT
UID:</milestone/0.9@genshi.edgewall.org>
DTSTAMP:20171230T230000Z
DTSTART;VALUE=DATE:20171231
SUMMARY:Milestone 0.9
URL:https://genshi.edgewall.org/milestone/0.9
END:VEVENT
BEGIN:VTODO
UID:</ticket/4@genshi.edgewall.org>
RELATED-TO:</milestone/0.9@genshi.edgewall.org>
DUE;VALUE=DATE:20171231
SUMMARY:Ticket #4: Better handling of namespace context
URL:https://genshi.edgewall.org/ticket/4
DESCRIPTION:Managing namespace context (i.e. the mapping of namespace URIs 
 to prefixes) is somewhat messy at the moment\, because any processor that 
 needs namespace information is required to track the mappings itself.\nOpt
 ions to improve this would be:\n * Include a namespace context object with
  every event in the stream\n * Provide a utility class that could track na
 mespace mappings on the stack of a generator
PRIORITY:7
STATUS:IN-PROCESS
END:VTODO
END:VCALENDAR
